BEGIN:VCALENDAR
VERSION:2.0
PRODID:-//SACC - Slovenská asociácia campingu a caravaningu//NONSGML kigkonsult.se iCalcreator 2.41.92//
CALSCALE:GREGORIAN
METHOD:PUBLISH
UID:35383438-3130-4832-a133-306237316263
X-WR-CALNAME:iCagenda
X-WR-CALDESC:Event Management Extension for Joomla!
X-WR-RELCALID:3E26604A-50F4-4449-8B3E-E4F4932D05B5
X-WR-TIMEZONE:Europe/Bratislava
BEGIN:VTIMEZONE
TZID:Europe/Bratislava
TZUNTIL:20260329T010000Z
BEGIN:STANDARD
TZNAME:CET
DTSTART:20231029T030000
TZOFFSETFROM:+0200
TZOFFSETTO:+0100
RDATE:20241027T030000
RDATE:20251026T030000
END:STANDARD
BEGIN:DAYLIGHT
TZNAME:CEST
DTSTART:20240331T020000
TZOFFSETFROM:+0100
TZOFFSETTO:+0200
RDATE:20250330T020000
END:DAYLIGHT
END:VTIMEZONE
BEGIN:VEVENT
UID:62623064-3264-4432-a638-343239653963
DTSTAMP:20260425T225529Z
CATEGORIES:Klubové podujatia\, SK
CLASS:PUBLIC
DESCRIPTION:
DTSTART:20240524T090600Z
DTEND:20240526T090700Z
GEO:00;0
LOCATION:Stellplatz Vinárstva Igar v Modranoch
ORGANIZER;CN=:mailto:obchod@igar.sk
SEQUENCE:1
SUMMARY:Sviatok sv. Urbana vo vinohradoch
TRANSP:OPAQUE
URL:https://caravaning.sk/index.php/kalendar/bliziace-sa-podujatia/188-svia
 tok-sv-urbana-vo-vinohradoch
END:VEVENT
END:VCALENDAR
