BEGIN:VCALENDAR
VERSION:2.0
PRODID:-//SACC - Slovenská asociácia campingu a caravaningu//NONSGML kigkonsult.se iCalcreator 2.41.92//
CALSCALE:GREGORIAN
METHOD:PUBLISH
UID:64626332-6234-4630-b161-363233656431
X-WR-CALNAME:iCagenda
X-WR-CALDESC:Event Management Extension for Joomla!
X-WR-RELCALID:3E26604A-50F4-4449-8B3E-E4F4932D05B5
X-WR-TIMEZONE:Europe/Bratislava
BEGIN:VTIMEZONE
TZID:Europe/Bratislava
TZUNTIL:20260329T010000Z
BEGIN:STANDARD
TZNAME:CET
DTSTART:20231029T030000
TZOFFSETFROM:+0200
TZOFFSETTO:+0100
RDATE:20241027T030000
RDATE:20251026T030000
END:STANDARD
BEGIN:DAYLIGHT
TZNAME:CEST
DTSTART:20240331T020000
TZOFFSETFROM:+0100
TZOFFSETTO:+0200
RDATE:20250330T020000
END:DAYLIGHT
END:VTIMEZONE
BEGIN:VEVENT
UID:39666262-3737-4235-a466-633161333364
DTSTAMP:20260422T064427Z
CATEGORIES:Zahraničné podujatia
CLASS:PUBLIC
DESCRIPTION:
DTSTART:20240515T220000Z
DTEND:20240519T220000Z
GEO:00;0
LOCATION:Camping Čikat Mali Lošinj
ORGANIZER;CN=:mailto:info@camp-cikat.com
SEQUENCE:1
SUMMARY:61. Europa Rally
TRANSP:OPAQUE
URL:https://caravaning.sk/index.php/component/icagenda/186-61-europa-rally
END:VEVENT
END:VCALENDAR
