BEGIN:VCALENDAR
VERSION:2.0
PRODID:-//SACC - Slovenská asociácia campingu a caravaningu//NONSGML kigkonsult.se iCalcreator 2.41.92//
CALSCALE:GREGORIAN
METHOD:PUBLISH
UID:30303536-6333-4536-b535-376266366637
X-WR-CALNAME:iCagenda
X-WR-CALDESC:Event Management Extension for Joomla!
X-WR-RELCALID:3E26604A-50F4-4449-8B3E-E4F4932D05B5
X-WR-TIMEZONE:Europe/Bratislava
BEGIN:VTIMEZONE
TZID:Europe/Bratislava
TZUNTIL:20210328T010000Z
BEGIN:STANDARD
TZNAME:CET
DTSTART:20181028T030000
TZOFFSETFROM:+0200
TZOFFSETTO:+0100
RDATE:20191027T030000
RDATE:20201025T030000
END:STANDARD
BEGIN:DAYLIGHT
TZNAME:CEST
DTSTART:20190331T020000
TZOFFSETFROM:+0100
TZOFFSETTO:+0200
RDATE:20200329T020000
END:DAYLIGHT
END:VTIMEZONE
BEGIN:VEVENT
UID:30656337-6139-4337-b834-626439356135
DTSTAMP:20260425T210900Z
CATEGORIES:Klubové podujatia\, SK
CLASS:PUBLIC
DESCRIPTION:
DTSTART:20190815T220000Z
DTEND:20190817T220000Z
GEO:+49.159313;+20.309387
LOCATION:Camp Tatranec Tatranská Lomnica
ORGANIZER;CN=:mailto:hoteltatranec@hoteltatranec.sk
SEQUENCE:1
SUMMARY:62. Košické automoto tour  rally Tatranec
TRANSP:OPAQUE
URL:https://caravaning.sk/index.php/camping/registracia-na-podujatia/146-62
 -ko%C5%A1ick%C3%A9-automoto-tour-rally-tatranec
END:VEVENT
END:VCALENDAR
