BEGIN:VCALENDAR
VERSION:2.0
PRODID:-//SACC - Slovenská asociácia campingu a caravaningu//NONSGML kigkonsult.se iCalcreator 2.41.92//
CALSCALE:GREGORIAN
METHOD:PUBLISH
UID:33636635-6263-4264-b431-333165666137
X-WR-CALNAME:iCagenda
X-WR-CALDESC:Event Management Extension for Joomla!
X-WR-RELCALID:3E26604A-50F4-4449-8B3E-E4F4932D05B5
X-WR-TIMEZONE:Europe/Bratislava
BEGIN:VTIMEZONE
TZID:Europe/Bratislava
TZUNTIL:20210328T010000Z
BEGIN:STANDARD
TZNAME:CET
DTSTART:20181028T030000
TZOFFSETFROM:+0200
TZOFFSETTO:+0100
RDATE:20191027T030000
RDATE:20201025T030000
END:STANDARD
BEGIN:DAYLIGHT
TZNAME:CEST
DTSTART:20190331T020000
TZOFFSETFROM:+0100
TZOFFSETTO:+0200
RDATE:20200329T020000
END:DAYLIGHT
END:VTIMEZONE
BEGIN:VEVENT
UID:38636235-3238-4738-b838-343665373562
DTSTAMP:20260421T134958Z
CATEGORIES:Zahraničné podujatia
CLASS:PUBLIC
DESCRIPTION:
DTSTART:20190725T220000Z
DTEND:20190803T220000Z
GEO:+47.719349;-1.376638
LOCATION:Châteaubriant
ORGANIZER;CN=:mailto:info@ficc.org
SEQUENCE:1
SUMMARY:88. FICC RALLYE  Chateaubriant
TRANSP:OPAQUE
URL:https://caravaning.sk/index.php/camping/registracia-na-podujatia/143-88
 -ficc-rallye-chateaubriant
END:VEVENT
END:VCALENDAR
